BEGIN:VCALENDAR
VERSION:2.0
PRODID:-//Eissegeln - ECPv6.15.17//NONSGML v1.0//EN
CALSCALE:GREGORIAN
METHOD:PUBLISH
X-WR-CALNAME:Eissegeln
X-ORIGINAL-URL:https://www.eissegeln.org
X-WR-CALDESC:Veranstaltungen für Eissegeln
REFRESH-INTERVAL;VALUE=DURATION:PT1H
X-Robots-Tag:noindex
X-PUBLISHED-TTL:PT1H
BEGIN:VTIMEZONE
TZID:Europe/Berlin
BEGIN:DAYLIGHT
TZOFFSETFROM:+0100
TZOFFSETTO:+0200
TZNAME:CEST
DTSTART:20250330T010000
END:DAYLIGHT
BEGIN:STANDARD
TZOFFSETFROM:+0200
TZOFFSETTO:+0100
TZNAME:CET
DTSTART:20251026T010000
END:STANDARD
BEGIN:DAYLIGHT
TZOFFSETFROM:+0100
TZOFFSETTO:+0200
TZNAME:CEST
DTSTART:20260329T010000
END:DAYLIGHT
BEGIN:STANDARD
TZOFFSETFROM:+0200
TZOFFSETTO:+0100
TZNAME:CET
DTSTART:20261025T010000
END:STANDARD
BEGIN:DAYLIGHT
TZOFFSETFROM:+0100
TZOFFSETTO:+0200
TZNAME:CEST
DTSTART:20270328T010000
END:DAYLIGHT
BEGIN:STANDARD
TZOFFSETFROM:+0200
TZOFFSETTO:+0100
TZNAME:CET
DTSTART:20271031T010000
END:STANDARD
END:VTIMEZONE
BEGIN:VEVENT
DTSTART;VALUE=DATE:20260228
DTEND;VALUE=DATE:20260303
DTSTAMP:20260419T194619
CREATED:20251017T065809Z
LAST-MODIFIED:20251017T065809Z
UID:3330-1772236800-1772495999@www.eissegeln.org
SUMMARY:HSK-Ranking Finland
DESCRIPTION:
URL:https://www.eissegeln.org/termine/hsk-ranking-finland/
LOCATION:Finnland\, Finland
END:VEVENT
BEGIN:VEVENT
DTSTART;VALUE=DATE:20260307
DTEND;VALUE=DATE:20260309
DTSTAMP:20260419T194619
CREATED:20251017T065937Z
LAST-MODIFIED:20251017T100531Z
UID:3333-1772841600-1773014399@www.eissegeln.org
SUMMARY:Finnische Meisterschaft
DESCRIPTION:
URL:https://www.eissegeln.org/termine/fm-finland/
LOCATION:Finnland\, Finland
END:VEVENT
BEGIN:VEVENT
DTSTART;VALUE=DATE:20260314
DTEND;VALUE=DATE:20260316
DTSTAMP:20260419T194619
CREATED:20251017T070040Z
LAST-MODIFIED:20251017T100600Z
UID:3336-1773446400-1773619199@www.eissegeln.org
SUMMARY:Schwedische Meisterschaft
DESCRIPTION:
URL:https://www.eissegeln.org/termine/sm/
LOCATION:Schweden
ORGANIZER;CN="DN Europe":MAILTO:secretary@idniyra.eu
END:VEVENT
BEGIN:VEVENT
DTSTART;VALUE=DATE:20260328
DTEND;VALUE=DATE:20260330
DTSTAMP:20260419T194619
CREATED:20251017T070150Z
LAST-MODIFIED:20251017T070150Z
UID:3339-1774656000-1774828799@www.eissegeln.org
SUMMARY:Sunny Ranking Finland
DESCRIPTION:
URL:https://www.eissegeln.org/termine/sunny-ranking-finland/
LOCATION:Finnland\, Finland
END:VEVENT
END:VCALENDAR