BEGIN:VCALENDAR
VERSION:2.0
PRODID:-//Eissegeln - ECPv6.15.17//NONSGML v1.0//EN
CALSCALE:GREGORIAN
METHOD:PUBLISH
X-WR-CALNAME:Eissegeln
X-ORIGINAL-URL:https://www.eissegeln.org
X-WR-CALDESC:Veranstaltungen für Eissegeln
REFRESH-INTERVAL;VALUE=DURATION:PT1H
X-Robots-Tag:noindex
X-PUBLISHED-TTL:PT1H
BEGIN:VTIMEZONE
TZID:Europe/Berlin
BEGIN:DAYLIGHT
TZOFFSETFROM:+0100
TZOFFSETTO:+0200
TZNAME:CEST
DTSTART:20250330T010000
END:DAYLIGHT
BEGIN:STANDARD
TZOFFSETFROM:+0200
TZOFFSETTO:+0100
TZNAME:CET
DTSTART:20251026T010000
END:STANDARD
BEGIN:DAYLIGHT
TZOFFSETFROM:+0100
TZOFFSETTO:+0200
TZNAME:CEST
DTSTART:20260329T010000
END:DAYLIGHT
BEGIN:STANDARD
TZOFFSETFROM:+0200
TZOFFSETTO:+0100
TZNAME:CET
DTSTART:20261025T010000
END:STANDARD
BEGIN:DAYLIGHT
TZOFFSETFROM:+0100
TZOFFSETTO:+0200
TZNAME:CEST
DTSTART:20270328T010000
END:DAYLIGHT
BEGIN:STANDARD
TZOFFSETFROM:+0200
TZOFFSETTO:+0100
TZNAME:CET
DTSTART:20271031T010000
END:STANDARD
END:VTIMEZONE
BEGIN:VEVENT
DTSTART;VALUE=DATE:20260124
DTEND;VALUE=DATE:20260202
DTSTAMP:20260419T212435
CREATED:20251017T065207Z
LAST-MODIFIED:20251017T065207Z
UID:3317-1769212800-1769990399@www.eissegeln.org
SUMMARY:NA’s USA
DESCRIPTION:
URL:https://www.eissegeln.org/termine/nas-usa/
LOCATION:Nordamerika\, Vereinigte Staaten
END:VEVENT
BEGIN:VEVENT
DTSTART;VALUE=DATE:20260207
DTEND;VALUE=DATE:20260209
DTSTAMP:20260419T212435
CREATED:20251017T065257Z
LAST-MODIFIED:20251017T065257Z
UID:3320-1770422400-1770595199@www.eissegeln.org
SUMMARY:Ranking 5 & 6 Sweden
DESCRIPTION:
URL:https://www.eissegeln.org/termine/ranking-5-6-sweden/
LOCATION:Schweden
ORGANIZER;CN="DN Europe":MAILTO:secretary@idniyra.eu
END:VEVENT
BEGIN:VEVENT
DTSTART;VALUE=DATE:20260207
DTEND;VALUE=DATE:20260209
DTSTAMP:20260419T212435
CREATED:20260203T205212Z
LAST-MODIFIED:20260203T205912Z
UID:3426-1770422400-1770595199@www.eissegeln.org
SUMMARY:Internationale Deutsche Meisterschaft
DESCRIPTION:
URL:https://www.eissegeln.org/termine/internationale-deutsche-meisterschaft/
END:VEVENT
BEGIN:VEVENT
DTSTART;VALUE=DATE:20260210
DTEND;VALUE=DATE:20260212
DTSTAMP:20260419T212435
CREATED:20251017T065021Z
LAST-MODIFIED:20251017T065021Z
UID:3311-1770681600-1770854399@www.eissegeln.org
SUMMARY:Ranking Finland
DESCRIPTION:
URL:https://www.eissegeln.org/termine/ranking-finland/
LOCATION:Finnland\, Finland
END:VEVENT
BEGIN:VEVENT
DTSTART;VALUE=DATE:20260210
DTEND;VALUE=DATE:20260213
DTSTAMP:20260419T212435
CREATED:20251017T065507Z
LAST-MODIFIED:20251017T065507Z
UID:3323-1770681600-1770940799@www.eissegeln.org
SUMMARY:GrandMasters Ice TBA
DESCRIPTION:
URL:https://www.eissegeln.org/termine/grandmasters-ice-tba/
LOCATION:Nordamerika\, Vereinigte Staaten
END:VEVENT
BEGIN:VEVENT
DTSTART;VALUE=DATE:20260214
DTEND;VALUE=DATE:20260223
DTSTAMP:20260419T212435
CREATED:20251017T065720Z
LAST-MODIFIED:20251017T065720Z
UID:3326-1771027200-1771804799@www.eissegeln.org
SUMMARY:WM & EM Poland
DESCRIPTION:
URL:https://www.eissegeln.org/termine/wm-em-poland/
LOCATION:Polen\, Poland
ORGANIZER;CN="DN Europe":MAILTO:secretary@idniyra.eu
END:VEVENT
BEGIN:VEVENT
DTSTART;VALUE=DATE:20260228
DTEND;VALUE=DATE:20260303
DTSTAMP:20260419T212435
CREATED:20251017T065809Z
LAST-MODIFIED:20251017T065809Z
UID:3330-1772236800-1772495999@www.eissegeln.org
SUMMARY:HSK-Ranking Finland
DESCRIPTION:
URL:https://www.eissegeln.org/termine/hsk-ranking-finland/
LOCATION:Finnland\, Finland
END:VEVENT
END:VCALENDAR