BEGIN:VCALENDAR
VERSION:2.0
PRODID:-//Eissegeln - ECPv6.15.17//NONSGML v1.0//EN
CALSCALE:GREGORIAN
METHOD:PUBLISH
X-ORIGINAL-URL:https://www.eissegeln.org
X-WR-CALDESC:Veranstaltungen für Eissegeln
REFRESH-INTERVAL;VALUE=DURATION:PT1H
X-Robots-Tag:noindex
X-PUBLISHED-TTL:PT1H
BEGIN:VTIMEZONE
TZID:Europe/Berlin
BEGIN:DAYLIGHT
TZOFFSETFROM:+0100
TZOFFSETTO:+0200
TZNAME:CEST
DTSTART:20240331T010000
END:DAYLIGHT
BEGIN:STANDARD
TZOFFSETFROM:+0200
TZOFFSETTO:+0100
TZNAME:CET
DTSTART:20241027T010000
END:STANDARD
BEGIN:DAYLIGHT
TZOFFSETFROM:+0100
TZOFFSETTO:+0200
TZNAME:CEST
DTSTART:20250330T010000
END:DAYLIGHT
BEGIN:STANDARD
TZOFFSETFROM:+0200
TZOFFSETTO:+0100
TZNAME:CET
DTSTART:20251026T010000
END:STANDARD
BEGIN:DAYLIGHT
TZOFFSETFROM:+0100
TZOFFSETTO:+0200
TZNAME:CEST
DTSTART:20260329T010000
END:DAYLIGHT
BEGIN:STANDARD
TZOFFSETFROM:+0200
TZOFFSETTO:+0100
TZNAME:CET
DTSTART:20261025T010000
END:STANDARD
END:VTIMEZONE
BEGIN:VEVENT
DTSTART;VALUE=DATE:20250104
DTEND;VALUE=DATE:20250105
DTSTAMP:20260420T100605
CREATED:20241101T080303Z
LAST-MODIFIED:20241101T080303Z
UID:2242-1735948800-1736035199@www.eissegeln.org
SUMMARY:R1. Best Ice in Schweden
DESCRIPTION:
URL:https://www.eissegeln.org/termine/r1-best-ice-in-schweden/
LOCATION:Schweden
END:VEVENT
BEGIN:VEVENT
DTSTART;VALUE=DATE:20250105
DTEND;VALUE=DATE:20250106
DTSTAMP:20260420T100605
CREATED:20241101T080336Z
LAST-MODIFIED:20241101T080336Z
UID:2245-1736035200-1736121599@www.eissegeln.org
SUMMARY:R2. Best Ice in Schweden
DESCRIPTION:
URL:https://www.eissegeln.org/termine/r2-best-ice-in-schweden/
LOCATION:Schweden
END:VEVENT
BEGIN:VEVENT
DTSTART;VALUE=DATE:20250118
DTEND;VALUE=DATE:20250119
DTSTAMP:20260420T100605
CREATED:20241101T080414Z
LAST-MODIFIED:20241101T080414Z
UID:2248-1737158400-1737244799@www.eissegeln.org
SUMMARY:R3. Best Ice in Schweden
DESCRIPTION:
URL:https://www.eissegeln.org/termine/r3-best-ice-in-schweden/
LOCATION:Schweden
END:VEVENT
BEGIN:VEVENT
DTSTART;VALUE=DATE:20250119
DTEND;VALUE=DATE:20250120
DTSTAMP:20260420T100605
CREATED:20241101T080521Z
LAST-MODIFIED:20241101T080521Z
UID:2251-1737244800-1737331199@www.eissegeln.org
SUMMARY:R4. Best Ice in Schweden
DESCRIPTION:
URL:https://www.eissegeln.org/termine/r4-best-ice-in-schweden/
LOCATION:Schweden
END:VEVENT
BEGIN:VEVENT
DTSTART;VALUE=DATE:20250128
DTEND;VALUE=DATE:20250131
DTSTAMP:20260420T100605
CREATED:20241101T080603Z
LAST-MODIFIED:20241101T080603Z
UID:2254-1738022400-1738281599@www.eissegeln.org
SUMMARY:Grand Masters. Best Ice in Schweden\, alternativ in Finnland
DESCRIPTION:
URL:https://www.eissegeln.org/termine/grand-masters-best-ice-in-schweden-alternativ-in-finnland/
LOCATION:Schweden
END:VEVENT
END:VCALENDAR